BEGIN:VCALENDAR
VERSION:2.0
PRODID:-//Dale Christian School - ECPv4.6.23//NONSGML v1.0//EN
CALSCALE:GREGORIAN
METHOD:PUBLISH
X-WR-CALNAME:Dale Christian School
X-ORIGINAL-URL:https://dalecs.wa.edu.au
X-WR-CALDESC:Events for Dale Christian School
BEGIN:VEVENT
DTSTART;TZID=UTC+0:20190227T083000
DTEND;TZID=UTC+0:20190227T150000
DTSTAMP:20190301T174922
CREATED:20190219T012504Z
LAST-MODIFIED:20190219T012504Z
UID:1183-1551256200-1551279600@dalecs.wa.edu.au
SUMMARY:Pre-Primmary Excursion
DESCRIPTION:Safety School and Shipwreck Park \n
URL:https://dalecs.wa.edu.au/event-calendar/pre-primmary-excursion/
END:VEVENT
END:VCALENDAR