BEGIN:VCALENDAR
VERSION:2.0
PRODID:-//Dale Christian School - ECPv4.6.23//NONSGML v1.0//EN
CALSCALE:GREGORIAN
METHOD:PUBLISH
X-WR-CALNAME:Dale Christian School
X-ORIGINAL-URL:https://dalecs.wa.edu.au
X-WR-CALDESC:Events for Dale Christian School
BEGIN:VEVENT
DTSTART;TZID=UTC+0:20190226T083000
DTEND;TZID=UTC+0:20190226T150000
DTSTAMP:20190301T174542
CREATED:20190205T045508Z
LAST-MODIFIED:20190219T011956Z
UID:1087-1551169800-1551193200@dalecs.wa.edu.au
SUMMARY:School Faction Swimming Carnival
DESCRIPTION:Kalamunda Water Park (Canning Rd.\, Kalamunda)\nYrs 4 – 10\n$3.00 spectator fee per adult\nThe bus leaves school at 8:30am sharp and returns by 3:00pm\nStudents to come to School dressed in their bathers under their sports uniform. Students to bring\, towel\, goggles\, water bottle\,\nrecess\, lunch\, hat\, sunscreen\, rashie/T-shirt\nGirls – one piece bathers\, Boys – board shorts or jammers \n
URL:https://dalecs.wa.edu.au/event-calendar/primary-school-faction-swimming-carnival/
END:VEVENT
END:VCALENDAR