BEGIN:VCALENDAR
VERSION:2.0
PRODID:-//Dale Christian School - ECPv4.6.23//NONSGML v1.0//EN
CALSCALE:GREGORIAN
METHOD:PUBLISH
X-WR-CALNAME:Dale Christian School
X-ORIGINAL-URL:https://dalecs.wa.edu.au
X-WR-CALDESC:Events for Dale Christian School
BEGIN:VEVENT
DTSTART;TZID=UTC+0:20190226T151000
DTEND;TZID=UTC+0:20190226T170000
DTSTAMP:20190301T174633
CREATED:20190212T042011Z
LAST-MODIFIED:20190212T042011Z
UID:1155-1551193800-1551200400@dalecs.wa.edu.au
SUMMARY:River Rangers - straight after School to 5:00pm sharp
DESCRIPTION:Activities at School \n
URL:https://dalecs.wa.edu.au/event-calendar/river-rangers-straight-after-school-to-500pm-sharp/2019-02-26/
END:VEVENT
END:VCALENDAR